BEGIN:VCALENDAR
VERSION:2.0
PRODID:-//Homegrown Frederick - ECPv6.15.20//NONSGML v1.0//EN
CALSCALE:GREGORIAN
METHOD:PUBLISH
X-ORIGINAL-URL:https://homegrownfrederick.com
X-WR-CALDESC:Events for Homegrown Frederick
REFRESH-INTERVAL;VALUE=DURATION:PT1H
X-Robots-Tag:noindex
X-PUBLISHED-TTL:PT1H
BEGIN:VTIMEZONE
TZID:UTC
BEGIN:STANDARD
TZOFFSETFROM:+0000
TZOFFSETTO:+0000
TZNAME:UTC
DTSTART:20210101T000000
END:STANDARD
END:VTIMEZONE
BEGIN:VEVENT
DTSTART;TZID=UTC:20230304T120000
DTEND;TZID=UTC:20230304T200000
DTSTAMP:20260420T071759
CREATED:20230303T231326Z
LAST-MODIFIED:20230303T231326Z
UID:1371-1677931200-1677960000@homegrownfrederick.com
SUMMARY:McClintock's Bottled In Bond Bourbon Release: Husker
DESCRIPTION:Join us on Saturday\, March 4th\, at 12pm for our release of Husker–Maryland’s only-known bottled-in-bond bourbon since Prohibition. Husker’s mash bill is 51% yellow king corn\, 40% red fife wheat\, and 9% chocolate-malted barley and rye. By using local grains and malting the barley with cacao nibs rather than the typical peat or wood\, Husker honors past Maryland traditions while showcasing new styles and flavors of distilling.\nThis is a limited release\, so get to the distillery early to claim your bottle and have a chance to grab some free swag!\n*Limit one bottle per customer*
URL:https://homegrownfrederick.com/event/mcclintocks-bottled-in-bond-bourbon-release-husker/
LOCATION:McClintock Distilling\, 35 S. Carroll St.\, Frederick\, 21701
ATTACH;FMTTYPE=image/jpeg:https://homegrownfrederick.com/wp-content/uploads/2023/03/husker.jpg
END:VEVENT
BEGIN:VEVENT
DTSTART;TZID=UTC:20221022T120000
DTEND;TZID=UTC:20221022T200000
DTSTAMP:20260420T071759
CREATED:20221018T190115Z
LAST-MODIFIED:20221018T190115Z
UID:846-1666440000-1666468800@homegrownfrederick.com
SUMMARY:Hootch & Harvest at McClintock Distilling
DESCRIPTION:Who’s ready to party!?! We are shutting down the parking lot\, swinging open the doors\, and letting the cool fall air in! We are hosting a harvest festival at the distillery to celebrate everything fall. Join us for live music\, local vendors and fall cocktails throughout the McClintock complex. Some vendors include\, Chappelle and Co Candles\, Star Bright Farm\, Sage Cakery\, Daysland Vista Bloom and crowd favorite The Dog Cart.
URL:https://homegrownfrederick.com/event/hootch-harvest-at-mcclintock-distilling/
LOCATION:McClintock Distilling\, 35 S. Carroll St.\, Frederick\, 21701
CATEGORIES:Distilleries
ATTACH;FMTTYPE=image/jpeg:https://homegrownfrederick.com/wp-content/uploads/2022/10/McClinktock-Hootch.jpg
END:VEVENT
END:VCALENDAR