BEGIN:VCALENDAR
VERSION:2.0
PRODID:-//Homegrown Frederick - ECPv6.15.20//NONSGML v1.0//EN
CALSCALE:GREGORIAN
METHOD:PUBLISH
X-ORIGINAL-URL:https://homegrownfrederick.com
X-WR-CALDESC:Events for Homegrown Frederick
REFRESH-INTERVAL;VALUE=DURATION:PT1H
X-Robots-Tag:noindex
X-PUBLISHED-TTL:PT1H
BEGIN:VTIMEZONE
TZID:America/New_York
BEGIN:DAYLIGHT
TZOFFSETFROM:-0500
TZOFFSETTO:-0400
TZNAME:EDT
DTSTART:20250309T070000
END:DAYLIGHT
BEGIN:STANDARD
TZOFFSETFROM:-0400
TZOFFSETTO:-0500
TZNAME:EST
DTSTART:20251102T060000
END:STANDARD
BEGIN:DAYLIGHT
TZOFFSETFROM:-0500
TZOFFSETTO:-0400
TZNAME:EDT
DTSTART:20260308T070000
END:DAYLIGHT
BEGIN:STANDARD
TZOFFSETFROM:-0400
TZOFFSETTO:-0500
TZNAME:EST
DTSTART:20261101T060000
END:STANDARD
BEGIN:DAYLIGHT
TZOFFSETFROM:-0500
TZOFFSETTO:-0400
TZNAME:EDT
DTSTART:20270314T070000
END:DAYLIGHT
BEGIN:STANDARD
TZOFFSETFROM:-0400
TZOFFSETTO:-0500
TZNAME:EST
DTSTART:20271107T060000
END:STANDARD
END:VTIMEZONE
BEGIN:VTIMEZONE
TZID:UTC
BEGIN:STANDARD
TZOFFSETFROM:+0000
TZOFFSETTO:+0000
TZNAME:UTC
DTSTART:20240101T000000
END:STANDARD
END:VTIMEZONE
BEGIN:VEVENT
DTSTART;TZID=America/New_York:20260218T090000
DTEND;TZID=America/New_York:20260218T113000
DTSTAMP:20260422T043721
CREATED:20260120T154748Z
LAST-MODIFIED:20260120T154748Z
UID:3423-1771405200-1771414200@homegrownfrederick.com
SUMMARY:Grow With Us: Farmer Interest Tour & Food Hub Open House at Moon Valley Farm
DESCRIPTION:Join Moon Valley Farm for a behind-the-scenes look at how our regional Food Hub works—and how your farm can thrive as part of it.\n\n\n\nDiscover how we partner with farmers to expand market access\, streamline logistics\, and grow consistent\, profitable sales. During this hands-on tour and info session\, you’ll learn about: \n\nHow our Food Hub model works\nPricing\, logistics & delivery systems\nWhat products we’re seeking & seasonal needs\nSales channels and weekly workflows\nAnswers to the most common farmer FAQs\nHow to join our growing network of partner farms\n\nHear real experiences from farmers currently working with us\, and meet the team behind the hub. \nAll current and aspiring farmers are welcome. Space is limited — reserve your spot today!
URL:https://homegrownfrederick.com/event/grow-with-us-farmer-interest-tour-food-hub-open-house-at-moon-valley-farm/
LOCATION:Moon Valley Farm\, 9700 Gravel Hill Rd.\, Woodsboro\, MD\, 21798
CATEGORIES:Frederick County Farm Events
ATTACH;FMTTYPE=image/jpeg:https://homegrownfrederick.com/wp-content/uploads/2026/01/https___cdn.evbuc_.com_images_1171652791_2615687739421_1_original.jpg
END:VEVENT
BEGIN:VEVENT
DTSTART;TZID=UTC:20250524T100000
DTEND;TZID=UTC:20250524T160000
DTSTAMP:20260422T043721
CREATED:20240507T165845Z
LAST-MODIFIED:20250506T220117Z
UID:2451-1748080800-1748102400@homegrownfrederick.com
SUMMARY:Strawberry Festival at Moon Valley Farm
DESCRIPTION:Welcome to Moon Valley Farm’s 2nd annual Strawberry Festival! \nCome join us at our certified organic farm to celebrate peak STRAWBERRY season! Get ready to indulge in all things strawberry. \nAt the Strawberry Festival\, we’ll have pick-your-own certified organic strawberries\, farm tours\, and food trucks (Traditional Authentic Mexican Food\, Wonderbowls\, and Sunset Slush of Frederick County)! \nWhether you’re a strawberry enthusiast or just looking for a fun day out\, this event is perfect for all ages. So mark your calendars and get ready to celebrate the sweetest fruit of the season! \n  \nTickets: https://www.eventbrite.com/e/moon-valley-farm-strawberry-festival-may-24th-tickets-1245478743449?aff=erelexpmlt
URL:https://homegrownfrederick.com/event/strawberry-festival-at-moon-valley-farm/
LOCATION:Moon Valley Farm\, 9700 Gravel Hill Rd.\, Woodsboro\, MD\, 21798
CATEGORIES:Frederick County Farm Events
ATTACH;FMTTYPE=image/jpeg:https://homegrownfrederick.com/wp-content/uploads/2024/05/435694257_438383272040424_4398344460063309569_n.jpg
END:VEVENT
END:VCALENDAR