BEGIN:VCALENDAR
VERSION:2.0
PRODID:-//Homegrown Frederick - ECPv6.15.20//NONSGML v1.0//EN
CALSCALE:GREGORIAN
METHOD:PUBLISH
X-ORIGINAL-URL:https://homegrownfrederick.com
X-WR-CALDESC:Events for Homegrown Frederick
REFRESH-INTERVAL;VALUE=DURATION:PT1H
X-Robots-Tag:noindex
X-PUBLISHED-TTL:PT1H
BEGIN:VTIMEZONE
TZID:America/New_York
BEGIN:DAYLIGHT
TZOFFSETFROM:-0500
TZOFFSETTO:-0400
TZNAME:EDT
DTSTART:20240310T070000
END:DAYLIGHT
BEGIN:STANDARD
TZOFFSETFROM:-0400
TZOFFSETTO:-0500
TZNAME:EST
DTSTART:20241103T060000
END:STANDARD
BEGIN:DAYLIGHT
TZOFFSETFROM:-0500
TZOFFSETTO:-0400
TZNAME:EDT
DTSTART:20250309T070000
END:DAYLIGHT
BEGIN:STANDARD
TZOFFSETFROM:-0400
TZOFFSETTO:-0500
TZNAME:EST
DTSTART:20251102T060000
END:STANDARD
BEGIN:DAYLIGHT
TZOFFSETFROM:-0500
TZOFFSETTO:-0400
TZNAME:EDT
DTSTART:20260308T070000
END:DAYLIGHT
BEGIN:STANDARD
TZOFFSETFROM:-0400
TZOFFSETTO:-0500
TZNAME:EST
DTSTART:20261101T060000
END:STANDARD
END:VTIMEZONE
BEGIN:VEVENT
DTSTART;TZID=America/New_York:20250604T180000
DTEND;TZID=America/New_York:20250604T200000
DTSTAMP:20260420T071512
CREATED:20250530T182325Z
LAST-MODIFIED:20250530T182325Z
UID:2972-1749060000-1749067200@homegrownfrederick.com
SUMMARY:National Cheese Day Celebration at Utica Park
DESCRIPTION:Celebrate National Cheese Day with Us! \n\n\nNational Cheese Day is the perfect time to honor one of the world’s oldest and most beloved foods—and we’re inviting you to celebrate with us on June 4\, 2025 at the Snook Family Agricultural Area in Utica District Park – 10200-B Old Frederick Rd\, Frederick\, MD 21701.\n\n\n June 4th | 6:00 – 8:00pm\n Program #36212 | Ages 5+\n Come explore the history of the Snook Dairy while enjoying dairy demonstrations and learning about the making of cheese.\n\n\nWhether you’re a history buff\, cheese enthusiast\, or just looking for a fun and educational family outing\, this event has something for everyone.\n\n\nRegister NOW – $5/person\n https://bit.ly/FCPRNationalCheeseDayCelebration
URL:https://homegrownfrederick.com/event/national-cheese-day-celebration-at-utica-park/
LOCATION:Utica Park\, 10200-B Old Frederick Rd.\, Frederick\, MD\, 21701
CATEGORIES:Frederick County Farm Events,Partner Organization Events
ATTACH;FMTTYPE=image/png:https://homegrownfrederick.com/wp-content/uploads/2025/05/National-Cheese-Day-Rack-Card-04042025.png
END:VEVENT
END:VCALENDAR